BEGIN:VCALENDAR
VERSION:2.0
PRODID:-//Tukios.com/
BEGIN:VEVENT
UID:6e59fe11-e0bf-4f13-8bba-abd0febcb8bd@www.woodfuneralhome.com
DTSTAMP:20260422T235359Z
DTSTART:20260502T160000Z
DTEND:20260502T164500Z
SUMMARY:Visitation
DESCRIPTION:
URL:https://www.woodfuneralhome.com/obituaries/zoe-coronado
LOCATION: 963 S Ammon Rd  Ammon ID 83406
GEO:43.4885546;-111.9633442
END:VEVENT
END:VCALENDAR