BEGIN:VCALENDAR
VERSION:2.0
PRODID:-//Tukios.com/
BEGIN:VEVENT
UID:7402d80c-7e62-46ab-96e7-2a8f8fb399e0@www.woodfuneralhome.com
DTSTAMP:20260422T235858Z
DTSTART:20260502T170000Z
DTEND:20260502T180000Z
SUMMARY:Memorial Service
DESCRIPTION:
URL:https://www.woodfuneralhome.com/obituaries/zoe-coronado
LOCATION: 963 S Ammon Rd  Ammon ID 83406
GEO:43.4885546;-111.9633442
END:VEVENT
END:VCALENDAR