BEGIN:VCALENDAR
VERSION:2.0
PRODID:-//Tukios.com/
BEGIN:VEVENT
UID:9574bf43-3006-43d5-836c-b363cdb9438e@www.woodfuneralhome.com
DTSTAMP:20260422T014325Z
DTSTART:20260424T003000Z
DTEND:20260424T020000Z
SUMMARY:Visitation
DESCRIPTION:
URL:https://www.woodfuneralhome.com/obituaries/rubymay-robinson
LOCATION: 963 S Ammon Rd  Ammon ID 83406
GEO:43.4885546;-111.9633442
END:VEVENT
END:VCALENDAR