BEGIN:VCALENDAR
VERSION:2.0
PRODID:-//Tukios.com/
BEGIN:VEVENT
UID:4ba22d3e-fc6c-4748-bd0d-06b70f43b751@www.woodfuneralhome.com
DTSTAMP:20260422T015144Z
DTSTART:20260424T170000Z
DTEND:20260424T180000Z
SUMMARY:Graveside Service
DESCRIPTION:
URL:https://www.woodfuneralhome.com/obituaries/rubymay-robinson
LOCATION: 2245 Cromwell Lane  Blackfoot ID 83221
GEO:43.1820012;-112.3264538
END:VEVENT
END:VCALENDAR