BEGIN:VCALENDAR
VERSION:2.0
PRODID:-//Tukios.com/
BEGIN:VEVENT
UID:acedb7b4-d4f9-44a3-a119-ad8c702e1035@www.woodfuneralhome.com
DTSTAMP:20260421T005646Z
DTSTART:20260425T220000Z
DTEND:20260425T224500Z
SUMMARY:Visitation
DESCRIPTION:
URL:https://www.woodfuneralhome.com/obituaries/leslie-hudson
LOCATION: 273 N Ridge Ave  Idaho Falls ID 83402
GEO:43.4900945;-112.0361845
END:VEVENT
END:VCALENDAR