BEGIN:VCALENDAR
VERSION:2.0
PRODID:-//Tukios.com/
BEGIN:VEVENT
UID:ce912c04-219b-45cd-9102-2d76d5ca87a5@www.woodfuneralhome.com
DTSTAMP:20260421T010039Z
DTSTART:20260425T230000Z
DTEND:20260426T000000Z
SUMMARY:Funeral Service
DESCRIPTION:
URL:https://www.woodfuneralhome.com/obituaries/leslie-hudson
LOCATION: 273 N Ridge Ave  Idaho Falls ID 83402
GEO:43.4900945;-112.0361845
END:VEVENT
END:VCALENDAR