BEGIN:VCALENDAR
VERSION:2.0
PRODID:-//Tukios.com/
BEGIN:VEVENT
UID:975ca275-6399-4c61-a48a-bc5a61f6cd97@www.woodfuneralhome.com
DTSTAMP:20260424T015544Z
DTSTART:20260501T003000Z
DTEND:20260501T020000Z
SUMMARY:Visitation
DESCRIPTION:
URL:https://www.woodfuneralhome.com/obituaries/ginny-yancey
LOCATION: 963 S Ammon Rd  Ammon ID 83406
GEO:43.4885546;-111.9633442
END:VEVENT
END:VCALENDAR