BEGIN:VCALENDAR
VERSION:2.0
PRODID:-//Tukios.com/
BEGIN:VEVENT
UID:bfa06bc8-a64a-40a6-aa9f-265562e88c77@www.woodfuneralhome.com
DTSTAMP:20260424T015917Z
DTSTART:20260501T160000Z
DTEND:20260501T164500Z
SUMMARY:Visitation
DESCRIPTION:
URL:https://www.woodfuneralhome.com/obituaries/ginny-yancey
LOCATION: 1660 12th Street  Idaho Falls ID 83404
GEO:43.4863996;-112.0005599
END:VEVENT
END:VCALENDAR