BEGIN:VCALENDAR
VERSION:2.0
PRODID:-//Tukios.com/
BEGIN:VEVENT
UID:84bb62c0-79aa-4ace-8356-2658b778860a@www.woodfuneralhome.com
DTSTAMP:20260424T015738Z
DTSTART:20260501T170000Z
DTEND:20260501T180000Z
SUMMARY:Funeral Service
DESCRIPTION:
URL:https://www.woodfuneralhome.com/obituaries/ginny-yancey
LOCATION:Belmont Ward 1660 12th Street  Idaho Falls ID 83404
GEO:43.4863996;-112.0005599
END:VEVENT
END:VCALENDAR