BEGIN:VCALENDAR
VERSION:2.0
PRODID:-//Tukios.com/
BEGIN:VEVENT
UID:577e8530-8794-4455-bda9-242814309eb4@www.woodfuneralhome.com
DTSTAMP:20260421T024524Z
DTSTART:20260424T193000Z
DTEND:20260424T203000Z
SUMMARY:Graveside Service
DESCRIPTION:
URL:https://www.woodfuneralhome.com/obituaries/debra-sanders
LOCATION: 4600 S Yellowstone Hwy.  Idaho Falls ID 83402
GEO:43.455619;-112.0705188
END:VEVENT
END:VCALENDAR